BEGIN:VCALENDAR
VERSION:2.0
PRODID:-//Nacidos de la Tierra//NONSGML kigkonsult.se iCalcreator 2.41.92//
CALSCALE:GREGORIAN
METHOD:PUBLISH
UID:61313566-3739-4638-b462-666232653664
X-WR-CALNAME:iCagenda
X-WR-CALDESC:Event Management Extension for Joomla!
X-WR-RELCALID:3E26604A-50F4-4449-8B3E-E4F4932D05B5
X-WR-TIMEZONE:Europe/Madrid
BEGIN:VTIMEZONE
TZID:Europe/Madrid
TZUNTIL:20261025T010000Z
BEGIN:STANDARD
TZNAME:CET
DTSTART:20241027T030000
TZOFFSETFROM:+0200
TZOFFSETTO:+0100
RDATE:20251026T030000
END:STANDARD
BEGIN:DAYLIGHT
TZNAME:CEST
DTSTART:20240331T020000
TZOFFSETFROM:+0100
TZOFFSETTO:+0200
RDATE:20250330T020000
RDATE:20260329T020000
END:DAYLIGHT
END:VTIMEZONE
BEGIN:VEVENT
UID:64343333-3737-4563-a361-653532313466
DTSTAMP:20260420T113859Z
CATEGORIES:Talleres y cursos
CLASS:PUBLIC
DESCRIPTION;ALTREP="CID:<FFFF__=0ABBE548DFE235B58f9e8a93d@coffeebean.com>":
 El&nbsp\;viernes 21 de marzo\, de&nbsp\;16:30 a 19:30h\, viviremos una tar
 de muy especial en el&nbsp\;Centro de Jóvenes Taleia&nbsp\;de la&nbsp\;Fun
 dación Adsis\, enmarcada dentro del proyecto&nbsp\;CulturTech\, con financ
 iación del&nbsp\;Ayuntamiento de València.\nA través de una actividad diná
 mica y participativa\, el grupo de jóvenes de entre 12 y 18 años explorará
  los valores de la&nbsp\;cultura Hip Hop&nbsp\;y sus distintas disciplinas
  artísticas. Con el&nbsp\;Rap&nbsp\;como herramienta principal\, crearán c
 olectivamente una letra que hable sobre el&nbsp\;Respeto y la Amistad\, te
 mas que resuenan en su día a día y que podrán transformar en versos cargad
 os de emoción y mensaje.\nDesde&nbsp\;Nacidos de la Tierra\, acompañaremos
  esta experiencia para guiar el proceso de escritura\, fomentar la reflexi
 ón grupal y mostrar cómo el arte urbano puede ser una vía poderosa de&nbsp
 \;expresión\, conexión y empoderamiento juvenil.\nUna tarde para compartir
 \, crear y construir comunidad al ritmo del Hip Hop.
DTSTART:20250321T153000Z
DTEND:20250321T153000Z
GEO:+39.455914;-0.365044
LOCATION:Centro de Jóvenes Taleia de la Fundación Adsis
ORGANIZER:
SEQUENCE:1
SUMMARY:Tarde de Hip Hop en el Centro Taleia: Rap\, Respeto y Amistad
TRANSP:OPAQUE
URL:https://nacidosdelatierra.com/talleres-y-cursos/tarde-de-hip-hop-en-el-
 centro-taleia-rap-respeto-y-amistad/2025-03-21-16-30.html
END:VEVENT
END:VCALENDAR
