BEGIN:VCALENDAR
VERSION:2.0
PRODID:-//Nacidos de la Tierra//NONSGML kigkonsult.se iCalcreator 2.41.92//
CALSCALE:GREGORIAN
METHOD:PUBLISH
UID:61616162-6664-4637-b531-373663633634
X-WR-CALNAME:iCagenda
X-WR-CALDESC:Event Management Extension for Joomla!
X-WR-RELCALID:3E26604A-50F4-4449-8B3E-E4F4932D05B5
X-WR-TIMEZONE:Europe/Madrid
BEGIN:VTIMEZONE
TZID:Europe/Madrid
TZUNTIL:20261025T010000Z
BEGIN:STANDARD
TZNAME:CET
DTSTART:20241027T030000
TZOFFSETFROM:+0200
TZOFFSETTO:+0100
RDATE:20251026T030000
END:STANDARD
BEGIN:DAYLIGHT
TZNAME:CEST
DTSTART:20240331T020000
TZOFFSETFROM:+0100
TZOFFSETTO:+0200
RDATE:20250330T020000
RDATE:20260329T020000
END:DAYLIGHT
END:VTIMEZONE
BEGIN:VEVENT
UID:39663130-3935-4963-b638-646466373734
DTSTAMP:20260420T112618Z
CATEGORIES:Talleres y cursos
CLASS:PUBLIC
DESCRIPTION;ALTREP="CID:<FFFF__=0ABBE548DFE235B58f9e8a93d@coffeebean.com>":
 El próximo&nbsp\;viernes 21 de febrero de 2025\, de 11:00 a 13:00 h\, la&n
 bsp\;Asociación Parkinson Valencia&nbsp\;será el escenario de un taller fo
 rmativo único diseñado para colectivos profesionales interesados en incorp
 orar herramientas artísticas en sus metodologías de intervención social.\n
 Esta formación se centra en la&nbsp\;cultura Hip Hop&nbsp\;y sus disciplin
 as\, con especial énfasis en el&nbsp\;Rap&nbsp\;como medio de expresión y 
 empoderamiento. Durante la sesión\, exploraremos cómo el arte puede ser un
  puente para trabajar con colectivos diversos\, abordando objetivos como e
 l desarrollo personal\, la sensibilización\, el trabajo emocional y la con
 strucción de comunidad.\nImpartido por&nbsp\;Nacidos de la Tierra\, este t
 aller ofrece una perspectiva profesional basada en años de experiencia tra
 bajando con esta metodología en diferentes contextos. Los/as asistentes po
 drán descubrir cómo adaptar estas herramientas a sus ámbitos de acción par
 a crear intervenciones innovadoras y efectivas.\nDescripción corta:Formaci
 ón para profesionales sobre el Rap como herramienta de intervención social
 . Viernes 21 de febrero de 2025\, de 11:00 a 13:00 h en la Asociación Park
 inson Valencia.
DTSTART:20250221T100000Z
DTEND:20250221T100000Z
GEO:+39.456131;-0.403085
LOCATION:
ORGANIZER:
SEQUENCE:1
SUMMARY:Taller Formativo: El Rap como Herramienta de Intervención Social
TRANSP:OPAQUE
URL:https://nacidosdelatierra.com/talleres-y-cursos/taller-formativo-el-rap
 -como-herramienta-de-intervencion-social/2025-02-21-11-00.html
END:VEVENT
END:VCALENDAR
