BEGIN:VCALENDAR
VERSION:2.0
PRODID:-//Nacidos de la Tierra//NONSGML kigkonsult.se iCalcreator 2.41.92//
CALSCALE:GREGORIAN
METHOD:PUBLISH
UID:33616330-6238-4162-a535-313634666136
X-WR-CALNAME:iCagenda
X-WR-CALDESC:Event Management Extension for Joomla!
X-WR-RELCALID:3E26604A-50F4-4449-8B3E-E4F4932D05B5
X-WR-TIMEZONE:Europe/Madrid
BEGIN:VTIMEZONE
TZID:Europe/Madrid
TZUNTIL:20251026T010000Z
BEGIN:STANDARD
TZNAME:CET
DTSTART:20231029T030000
TZOFFSETFROM:+0200
TZOFFSETTO:+0100
RDATE:20241027T030000
END:STANDARD
BEGIN:DAYLIGHT
TZNAME:CEST
DTSTART:20230326T020000
TZOFFSETFROM:+0100
TZOFFSETTO:+0200
RDATE:20240331T020000
RDATE:20250330T020000
END:DAYLIGHT
END:VTIMEZONE
BEGIN:VEVENT
UID:63303233-3761-4237-a262-626334663464
DTSTAMP:20260420T113034Z
CATEGORIES:Talleres y cursos
CLASS:PUBLIC
DESCRIPTION;ALTREP="CID:<FFFF__=0ABBE548DFE235B58f9e8a93d@coffeebean.com>":
 Descubre el mundo del Rap positivo en el CEIP Mare de Deu dels Ángels el 2
 2 de Marzo de 2024\, de 15:00 a 16:30 h. Este taller ofrece al alumnado de
  6to de primaria la oportunidad de explorar la música y la creatividad mie
 ntras crean una canción colectiva con la guía experta de Kasú y Meser de N
 acidos de la Tierra.\nEn este taller\, el alumnado aprenderá los fundament
 os del rap positivo y participará en la escritura de letras y la producció
 n musical. Además\, se fomentará el trabajo en equipo y la autoexpresión\,
  promoviendo valores de positividad y empoderamiento.\nNo te pierdas esta 
 emocionante oportunidad de aprender y divertirte mientras exploras la músi
 ca y transmites mensajes positivos en CEIP Mare de Deu dels Ángels.
DTSTART:20240322T140000Z
DTEND:20240322T140000Z
GEO:+40.464344;+0.182912
LOCATION:
ORGANIZER:
SEQUENCE:1
SUMMARY:Taller de Rap Positivo con Kasú y Meser en CEIP Mare de Deu dels Án
 gels\, Sant Mateu\, Castellón
TRANSP:OPAQUE
URL:https://nacidosdelatierra.com/talleres-y-cursos/taller-de-rap-positivo-
 con-kasu-y-meser-en-ceip-mare-de-deu-dels-angels-sant-mateu-castellon/2024
 -03-22-15-00.html
END:VEVENT
END:VCALENDAR
