BEGIN:VCALENDAR
VERSION:2.0
PRODID:-//Nacidos de la Tierra//NONSGML kigkonsult.se iCalcreator 2.41.92//
CALSCALE:GREGORIAN
METHOD:PUBLISH
UID:62336130-3961-4666-b532-333438633537
X-WR-CALNAME:iCagenda
X-WR-CALDESC:Event Management Extension for Joomla!
X-WR-RELCALID:3E26604A-50F4-4449-8B3E-E4F4932D05B5
X-WR-TIMEZONE:Europe/Madrid
BEGIN:VTIMEZONE
TZID:Europe/Madrid
TZUNTIL:20250330T010000Z
BEGIN:STANDARD
TZNAME:CET
DTSTART:20221030T030000
TZOFFSETFROM:+0200
TZOFFSETTO:+0100
RDATE:20231029T030000
RDATE:20241027T030000
END:STANDARD
BEGIN:DAYLIGHT
TZNAME:CEST
DTSTART:20230326T020000
TZOFFSETFROM:+0100
TZOFFSETTO:+0200
RDATE:20240331T020000
END:DAYLIGHT
END:VTIMEZONE
BEGIN:VEVENT
UID:66343438-3066-4232-a564-636135323865
DTSTAMP:20260422T100118Z
CATEGORIES:Talleres y cursos
CLASS:PUBLIC
DESCRIPTION;ALTREP="CID:<FFFF__=0ABBE548DFE235B58f9e8a93d@coffeebean.com>":
 Durante los días 21 y 28 de abril\, así como el 12 de mayo de 2023\, se ll
 evará a cabo un taller de Rap por el cambio climático en el Centre Jove Fu
 ndació Per Amor a l’Art Marxalenes. El evento\, organizado por la ONG Paz 
 y Desarrollo\, contará con sesiones de sensibilización y creación de letra
  de Rap sobre este importante tema.
DTSTART:20230512T140000Z
DTEND:20230512T140000Z
GEO:+39.485828;-0.385516
LOCATION:Centre Jove Fundació Per Amor a l’Art Marxalenes
ORGANIZER:
SEQUENCE:1
SUMMARY:Taller de Rap por el cambio climático (ONG Paz y Desarrollo)
TRANSP:OPAQUE
URL:https://nacidosdelatierra.com/talleres-y-cursos/taller-de-rap-por-el-ca
 mbio-climatico-ong-paz-y-desarrollo/2023-05-12-16-00.html?layout=vcal
END:VEVENT
END:VCALENDAR
