BEGIN:VCALENDAR
VERSION:2.0
PRODID:-//Nacidos de la Tierra//NONSGML kigkonsult.se iCalcreator 2.41.92//
CALSCALE:GREGORIAN
METHOD:PUBLISH
UID:36663264-3439-4365-b064-623262383961
X-WR-CALNAME:iCagenda
X-WR-CALDESC:Event Management Extension for Joomla!
X-WR-RELCALID:3E26604A-50F4-4449-8B3E-E4F4932D05B5
X-WR-TIMEZONE:Europe/Madrid
BEGIN:VTIMEZONE
TZID:Europe/Madrid
TZUNTIL:20241027T010000Z
BEGIN:STANDARD
TZNAME:CET
DTSTART:20221030T030000
TZOFFSETFROM:+0200
TZOFFSETTO:+0100
RDATE:20231029T030000
END:STANDARD
BEGIN:DAYLIGHT
TZNAME:CEST
DTSTART:20220327T020000
TZOFFSETFROM:+0100
TZOFFSETTO:+0200
RDATE:20230326T020000
RDATE:20240331T020000
END:DAYLIGHT
END:VTIMEZONE
BEGIN:VEVENT
UID:38306236-6366-4964-b231-616264656232
DTSTAMP:20260420T101013Z
CATEGORIES:Talleres y cursos
CLASS:PUBLIC
DESCRIPTION;ALTREP="CID:<FFFF__=0ABBE548DFE235B58f9e8a93d@coffeebean.com>":
 Taller de Arte Urbano: Decora el centro juvenil
DTSTART:20230303T160000Z
DTEND:20230303T180000Z
GEO:+39.568138;-1.204404
LOCATION:Centro Joven Utiel
ORGANIZER:
SEQUENCE:1
SUMMARY:Taller de Graffiti y Arte Urbano en Utiel
TRANSP:OPAQUE
URL:https://nacidosdelatierra.com/talleres-y-cursos/taller-de-graffiti-y-ar
 te-urbano-en-utiel/2023-03-03-17-00.html
END:VEVENT
END:VCALENDAR
