BEGIN:VCALENDAR
VERSION:2.0
PRODID:-//Nacidos de la Tierra//NONSGML kigkonsult.se iCalcreator 2.41.92//
CALSCALE:GREGORIAN
METHOD:PUBLISH
UID:35636538-3537-4533-a338-373937633737
X-WR-CALNAME:iCagenda
X-WR-CALDESC:Event Management Extension for Joomla!
X-WR-RELCALID:3E26604A-50F4-4449-8B3E-E4F4932D05B5
X-WR-TIMEZONE:Europe/Madrid
BEGIN:VTIMEZONE
TZID:Europe/Madrid
TZUNTIL:20251026T010000Z
BEGIN:STANDARD
TZNAME:CET
DTSTART:20231029T030000
TZOFFSETFROM:+0200
TZOFFSETTO:+0100
RDATE:20241027T030000
END:STANDARD
BEGIN:DAYLIGHT
TZNAME:CEST
DTSTART:20240331T020000
TZOFFSETFROM:+0100
TZOFFSETTO:+0200
RDATE:20250330T020000
END:DAYLIGHT
END:VTIMEZONE
BEGIN:VEVENT
UID:36303964-6235-4834-a637-386365323266
DTSTAMP:20260420T125147Z
CATEGORIES:Talleres y cursos
CLASS:PUBLIC
DESCRIPTION;ALTREP="CID:<FFFF__=0ABBE548DFE235B58f9e8a93d@coffeebean.com>":
 El taller de Danza Urbana con Bea Abad es una oportunidad única para explo
 rar y aprender los fundamentos de la danza urbana en un ambiente divertido
  y dinámico. El taller se llevará a cabo el 26 de Marzo de 2024 en el marc
 o de las Jornadas Culturales del IES Sollana.\nDurante dos horas\, de 09:0
 0 a 11:00 h\, el alumnado participante tendrá la oportunidad de sumergirse
  en el mundo de la danza urbana\, explorando diversos estilos y movimiento
 s bajo la dirección experta de Bea Abad\, reconocida bailarina y coreógraf
 a.\nEste taller está diseñado para estudiantes del IES Sollana a quienes l
 es interese la danza y la cultura urbana\, ofreciendo una experiencia enri
 quecedora que fomenta la expresión creativa y el trabajo en equipo.\nNo te
  pierdas esta oportunidad de aprender y disfrutar con Bea Abad en el Talle
 r de Danza Urbana durante las Jornadas Culturales del IES Sollana.
DTSTART:20240326T080000Z
DTEND:20240326T080000Z
GEO:+39.281185;-0.386094
LOCATION:IES Sollana
ORGANIZER:
SEQUENCE:1
SUMMARY:Taller de Danza Urbana para el alumnado del IES de Sollana
TRANSP:OPAQUE
URL:https://nacidosdelatierra.com/talleres-y-cursos/taller-de-danza-urbana-
 para-el-alumnado-del-ies-de-sollana/2024-03-26-09-00.html
END:VEVENT
END:VCALENDAR
