BEGIN:VCALENDAR
VERSION:2.0
PRODID:-//Nacidos de la Tierra//NONSGML kigkonsult.se iCalcreator 2.41.92//
CALSCALE:GREGORIAN
METHOD:PUBLISH
UID:66376132-6561-4665-a235-623433323438
X-WR-CALNAME:iCagenda
X-WR-CALDESC:Event Management Extension for Joomla!
X-WR-RELCALID:3E26604A-50F4-4449-8B3E-E4F4932D05B5
X-WR-TIMEZONE:Europe/Madrid
BEGIN:VTIMEZONE
TZID:Europe/Madrid
TZUNTIL:20260329T010000Z
BEGIN:STANDARD
TZNAME:CET
DTSTART:20231029T030000
TZOFFSETFROM:+0200
TZOFFSETTO:+0100
RDATE:20241027T030000
RDATE:20251026T030000
END:STANDARD
BEGIN:DAYLIGHT
TZNAME:CEST
DTSTART:20240331T020000
TZOFFSETFROM:+0100
TZOFFSETTO:+0200
RDATE:20250330T020000
END:DAYLIGHT
END:VTIMEZONE
BEGIN:VEVENT
UID:30343131-3932-4365-a430-613263363461
DTSTAMP:20260420T113604Z
CATEGORIES:Talleres y cursos
CLASS:PUBLIC
DESCRIPTION;ALTREP="CID:<FFFF__=0ABBE548DFE235B58f9e8a93d@coffeebean.com>":
 Participa en una clase demostrativa de introducción a la Producción Musica
 l Digital. Aprende las etapas clave del proceso de creación musical\, expl
 orando programas de edición de audio de libre uso para la auto-producción.
  Trae tu ordenador y únete a un espacio colaborativo donde podrás comparti
 r experiencias\, técnicas y conocimientos sobre la creación de bases instr
 umentales para cualquier estilo musical.\n¡No te pierdas esta oportunidad 
 de desarrollar tus habilidades en producción musical y conectar con otras 
 personas con tus mismos intereses!\n&nbsp\;\n¿No estás cerca o no puedes a
 cudir al taller?\, escríbenos y te diremos cómo puedes aprender producción
  musical desde tu casa:\n{convertforms 12}
DTSTART:20240902T153000Z
DTEND:20240902T153000Z
GEO:+39.67461;-0.562224
LOCATION:Centro Juvenil de Marines
ORGANIZER:
SEQUENCE:1
SUMMARY:Sesión de Producción de Música Digital
TRANSP:OPAQUE
URL:https://nacidosdelatierra.com/talleres-y-cursos/sesion-de-produccion-de
 -musica-digital/2024-09-02-17-30.html
END:VEVENT
END:VCALENDAR
