BEGIN:VCALENDAR
VERSION:2.0
PRODID:-//Nacidos de la Tierra//NONSGML kigkonsult.se iCalcreator 2.41.92//
CALSCALE:GREGORIAN
METHOD:PUBLISH
UID:37663431-3264-4439-a230-313332663232
X-WR-CALNAME:iCagenda
X-WR-CALDESC:Event Management Extension for Joomla!
X-WR-RELCALID:3E26604A-50F4-4449-8B3E-E4F4932D05B5
X-WR-TIMEZONE:Europe/Madrid
BEGIN:VTIMEZONE
TZID:Europe/Madrid
TZUNTIL:20261025T010000Z
BEGIN:STANDARD
TZNAME:CET
DTSTART:20241027T030000
TZOFFSETFROM:+0200
TZOFFSETTO:+0100
RDATE:20251026T030000
END:STANDARD
BEGIN:DAYLIGHT
TZNAME:CEST
DTSTART:20250330T020000
TZOFFSETFROM:+0100
TZOFFSETTO:+0200
RDATE:20260329T020000
END:DAYLIGHT
END:VTIMEZONE
BEGIN:VEVENT
UID:61313563-3334-4962-b662-313838666636
DTSTAMP:20260420T124212Z
CATEGORIES:Talleres y cursos
CLASS:PUBLIC
DESCRIPTION;ALTREP="CID:<FFFF__=0ABBE548DFE235B58f9e8a93d@coffeebean.com>":
 Los días&nbsp\;martes 22 y miércoles 23 de abril\, de&nbsp\;11:00 a 13:00h
 \, el aula del&nbsp\;Edificio Tauleta de Servicios Sociales de Alfafar&nbs
 p\;se llenará de ritmo\, reflexión y creatividad con el proyecto&nbsp\;Rap
  Jove Alfafar\, impulsado por el&nbsp\;departamento de Servicios Sociales 
 del Ayuntamiento de Alfafar.\nDurante estas sesiones\, la juventud del mun
 icipio participará en un taller de sensibilización y escritura creativa do
 nde conocerán los orígenes y valores de la&nbsp\;cultura Hip Hop&nbsp\;y e
 xplorarán el&nbsp\;Rap&nbsp\;como herramienta de expresión personal y cole
 ctiva. Trabajaremos la gestión emocional\, el empoderamiento juvenil\, la 
 autoestima\, el pensamiento crítico y el&nbsp\;sentido de pertenencia&nbsp
 \;al entorno social.\nA través de dinámicas participativas\, Kasú y Meser 
 —de Nacidos de la Tierra— guiarán al grupo para que puedan&nbsp\;convertir
  sus ideas\, vivencias y emociones en letras con mensaje\, reforzando así 
 la conexión grupal y su implicación en la comunidad.\nUna propuesta artíst
 ica que forma parte del proceso de&nbsp\;reconstrucción emocional post-DAN
 A&nbsp\;y que sigue apostando por el poder del arte como camino hacia el b
 ienestar y la transformación social.
DTSTART:20250422T090000Z
DTEND:20250423T110000Z
GEO:+39.421242;-0.386659
LOCATION:Aula del Edificio Tauleta – Servicios Sociales Alfafar
ORGANIZER:
SEQUENCE:1
SUMMARY:Rap Jove Alfafar: Empoderamiento y expresión a través del Hip Hop
TRANSP:OPAQUE
URL:https://nacidosdelatierra.com/talleres-y-cursos/rap-jove-alfafar-empode
 ramiento-y-expresion-a-traves-del-hip-hop.html
END:VEVENT
END:VCALENDAR
