BEGIN:VCALENDAR
VERSION:2.0
PRODID:-//Nacidos de la Tierra//NONSGML kigkonsult.se iCalcreator 2.41.92//
CALSCALE:GREGORIAN
METHOD:PUBLISH
UID:35363935-6338-4130-b230-373636623037
X-WR-CALNAME:iCagenda
X-WR-CALDESC:Event Management Extension for Joomla!
X-WR-RELCALID:3E26604A-50F4-4449-8B3E-E4F4932D05B5
X-WR-TIMEZONE:Europe/Madrid
BEGIN:VTIMEZONE
TZID:Europe/Madrid
TZUNTIL:20261025T010000Z
BEGIN:STANDARD
TZNAME:CET
DTSTART:20241027T030000
TZOFFSETFROM:+0200
TZOFFSETTO:+0100
RDATE:20251026T030000
END:STANDARD
BEGIN:DAYLIGHT
TZNAME:CEST
DTSTART:20250330T020000
TZOFFSETFROM:+0100
TZOFFSETTO:+0200
RDATE:20260329T020000
END:DAYLIGHT
END:VTIMEZONE
BEGIN:VEVENT
UID:35383538-3539-4263-b936-636337396262
DTSTAMP:20260420T114902Z
CATEGORIES:Talleres y cursos
CLASS:PUBLIC
DESCRIPTION;ALTREP="CID:<FFFF__=0ABBE548DFE235B58f9e8a93d@coffeebean.com>":
 Durante las vacaciones de Pascua\, del&nbsp\;martes 22 al viernes 25 de ab
 ril\, de&nbsp\;10:00 a 14:00h\, el municipio de&nbsp\;Alaquàsacogerá el&nb
 sp\;Campus Pasqua Jove\, una propuesta gratuita y dinámica para jóvenes a 
 partir de 12 años.\nEste campus busca apoyar la conciliación familiar ofre
 ciendo una alternativa educativa y de ocio saludable\, combinando activida
 des físicas\, artísticas y culturales en un entorno participativo y motiva
 dor.\nA lo largo de cuatro días\, la juventud del municipio podrá&nbsp\;su
 mergirse en la cultura Hip Hop y los deportes urbanosmediante talleres prá
 cticos de:\n\nParkour\nDanza Urbana\nBeatbox\nSkateboarding\nRap/Freestyle
 \nArte Urbano (Graffiti)\n\nLas actividades se desarrollarán en diferentes
  espacios emblemáticos del municipio como el&nbsp\;Centro Juvenil – Edific
 io Olivar II\, el&nbsp\;skatepark de Alaquàs&nbsp\;y el&nbsp\;Polideportiv
 o Bovalar\, combinando zonas interiores y exteriores para un enfoque integ
 ral y divertido.\nCada día será una oportunidad para descubrir talentos\, 
 expresarse libremente y fomentar valores como la cooperación\, el respeto 
 y la creatividad\, siempre de la mano de&nbsp\;profesionales expertas&nbsp
 \;en cada disciplina.\nUna propuesta vibrante donde el movimiento\, el art
 e y la cultura urbana se dan la mano para crear una experiencia transforma
 dora y llena de energía.
DTSTART:20250422T080000Z
DTEND:20250425T120000Z
GEO:+39.457294;-0.46098
LOCATION:
ORGANIZER:
SEQUENCE:1
SUMMARY:Pasqua Jove Alaquàs: Campus de Cultura Hip Hop y Deportes Urbanos
TRANSP:OPAQUE
URL:https://nacidosdelatierra.com/talleres-y-cursos/pasqua-jove-alaquas-cam
 pus-de-cultura-hip-hop-y-deportes-urbanos.html
END:VEVENT
END:VCALENDAR
