BEGIN:VCALENDAR
VERSION:2.0
PRODID:-//Nacidos de la Tierra//NONSGML kigkonsult.se iCalcreator 2.41.92//
CALSCALE:GREGORIAN
METHOD:PUBLISH
UID:65623635-6134-4633-a663-616436616564
X-WR-CALNAME:iCagenda
X-WR-CALDESC:Event Management Extension for Joomla!
X-WR-RELCALID:3E26604A-50F4-4449-8B3E-E4F4932D05B5
X-WR-TIMEZONE:Europe/Madrid
BEGIN:VTIMEZONE
TZID:Europe/Madrid
TZUNTIL:20271031T010000Z
BEGIN:STANDARD
TZNAME:CET
DTSTART:20251026T030000
TZOFFSETFROM:+0200
TZOFFSETTO:+0100
RDATE:20261025T030000
END:STANDARD
BEGIN:DAYLIGHT
TZNAME:CEST
DTSTART:20250330T020000
TZOFFSETFROM:+0100
TZOFFSETTO:+0200
RDATE:20260329T020000
RDATE:20270328T020000
END:DAYLIGHT
END:VTIMEZONE
BEGIN:VEVENT
UID:37626161-6364-4861-b333-386364653637
DTSTAMP:20260420T083433Z
CATEGORIES:Talleres y cursos
CLASS:PUBLIC
DESCRIPTION;ALTREP="CID:<FFFF__=0ABBE548DFE235B58f9e8a93d@coffeebean.com>":
 Esta sesión de&nbsp\;Danza Urbana con Beatriz Abad&nbsp\;propone un primer
  acercamiento al baile como herramienta de expresión\, bienestar y desarro
 llo personal. A través de dinámicas accesibles y adaptadas\, la juventud p
 odrá explorar el&nbsp\;movimiento\, el ritmo y la coordinación\, conectand
 o con su cuerpo desde el disfrute y la creatividad.\nLa actividad está pen
 sada como un&nbsp\;espacio seguro y libre de juicios\, donde liberar energ
 ía\, ganar confianza y fortalecer la autoestima a través de la danza. El t
 rabajo corporal se combina con dinámicas grupales que fomentan la particip
 ación\, el respeto y la conexión con el grupo.\nUna experiencia ideal para
  iniciarse en la Danza Urbana\, descubrir nuevas formas de expresión artís
 tica y disfrutar del movimiento como herramienta de ocio saludable.\n{conv
 ertforms 21}
DTSTART:20260202T163000Z
DTEND:20260202T163000Z
GEO:+39.422394;-0.378395
LOCATION:Polideportivo – Sala de espejos (Club de Karate)
ORGANIZER:
SEQUENCE:1
SUMMARY:Danza Urbana con Beatriz Abad
TRANSP:OPAQUE
URL:https://nacidosdelatierra.com/talleres-y-cursos/danza-urbana-con-beatri
 z-abad/2026-02-02-17-30.html
END:VEVENT
END:VCALENDAR
