BEGIN:VCALENDAR
VERSION:2.0
PRODID:-//Nacidos de la Tierra//NONSGML kigkonsult.se iCalcreator 2.41.92//
CALSCALE:GREGORIAN
METHOD:PUBLISH
UID:64383837-3164-4364-a537-396534353636
X-WR-CALNAME:iCagenda
X-WR-CALDESC:Event Management Extension for Joomla!
X-WR-RELCALID:3E26604A-50F4-4449-8B3E-E4F4932D05B5
X-WR-TIMEZONE:Europe/Madrid
BEGIN:VTIMEZONE
TZID:Europe/Madrid
TZUNTIL:20271031T010000Z
BEGIN:STANDARD
TZNAME:CET
DTSTART:20251026T030000
TZOFFSETFROM:+0200
TZOFFSETTO:+0100
RDATE:20261025T030000
END:STANDARD
BEGIN:DAYLIGHT
TZNAME:CEST
DTSTART:20250330T020000
TZOFFSETFROM:+0100
TZOFFSETTO:+0200
RDATE:20260329T020000
RDATE:20270328T020000
END:DAYLIGHT
END:VTIMEZONE
BEGIN:VEVENT
UID:65333831-6163-4830-a539-376437383232
DTSTAMP:20260424T094741Z
CATEGORIES:Talleres y cursos
CLASS:PUBLIC
DESCRIPTION;ALTREP="CID:<FFFF__=0ABBE548DFE235B58f9e8a93d@coffeebean.com>":
 Sesión práctica de skateboarding orientada al aprendizaje de técnicas esen
 ciales como el equilibrio\, el impulso\, los giros y las nociones básicas 
 de seguridad. A través de una metodología progresiva y accesible\, el alum
 nado desarrolla habilidades físicas y personales\, reforzando la confianza
 \, la constancia y el respeto por el propio cuerpo y el entorno. Una propu
 esta de ocio saludable que promueve la convivencia y el uso responsable de
  los espacios públicos.\n{convertforms 21}
DTSTART:20260227T163000Z
DTEND:20260227T163000Z
GEO:+39.422394;-0.378395
LOCATION:Polideportivo de sedaví (pista de hockey)
ORGANIZER:
SEQUENCE:1
SUMMARY:Taller de skate
TRANSP:OPAQUE
URL:https://nacidosdelatierra.com/eventos/taller-de-skate/2026-02-27-17-30.
 html?layout=vcal
END:VEVENT
END:VCALENDAR
