BEGIN:VCALENDAR
VERSION:2.0
PRODID:-//Nacidos de la Tierra//NONSGML kigkonsult.se iCalcreator 2.41.92//
CALSCALE:GREGORIAN
METHOD:PUBLISH
UID:37636263-6139-4235-a138-393935393136
X-WR-CALNAME:iCagenda
X-WR-CALDESC:Event Management Extension for Joomla!
X-WR-RELCALID:3E26604A-50F4-4449-8B3E-E4F4932D05B5
X-WR-TIMEZONE:Europe/Madrid
BEGIN:VTIMEZONE
TZID:Europe/Madrid
TZUNTIL:20241027T010000Z
BEGIN:STANDARD
TZNAME:CET
DTSTART:20221030T030000
TZOFFSETFROM:+0200
TZOFFSETTO:+0100
RDATE:20231029T030000
END:STANDARD
BEGIN:DAYLIGHT
TZNAME:CEST
DTSTART:20220327T020000
TZOFFSETFROM:+0100
TZOFFSETTO:+0200
RDATE:20230326T020000
RDATE:20240331T020000
END:DAYLIGHT
END:VTIMEZONE
BEGIN:VEVENT
UID:65663538-3431-4933-b061-333236363538
DTSTAMP:20260424T112727Z
CATEGORIES:Talleres y cursos
CLASS:PUBLIC
DESCRIPTION;ALTREP="CID:<FFFF__=0ABBE548DFE235B58f9e8a93d@coffeebean.com>":
 Taller de Arte Urbano: Decora el centro juvenil
DTSTART:20230304T100000Z
DTEND:20230304T120000Z
GEO:+39.568138;-1.204404
LOCATION:Centro Joven Utiel
ORGANIZER:
SEQUENCE:1
SUMMARY:Taller de Graffiti y Arte Urbano en Utiel
TRANSP:OPAQUE
URL:https://nacidosdelatierra.com/eventos/taller-de-graffiti-y-arte-urbano-
 en-utiel-2.html?layout=vcal
END:VEVENT
END:VCALENDAR
