BEGIN:VCALENDAR
VERSION:2.0
PRODID:-//Nacidos de la Tierra//NONSGML kigkonsult.se iCalcreator 2.41.92//
CALSCALE:GREGORIAN
METHOD:PUBLISH
UID:31323034-3562-4564-a539-366161366337
X-WR-CALNAME:iCagenda
X-WR-CALDESC:Event Management Extension for Joomla!
X-WR-RELCALID:3E26604A-50F4-4449-8B3E-E4F4932D05B5
X-WR-TIMEZONE:Europe/Madrid
BEGIN:VTIMEZONE
TZID:Europe/Madrid
TZUNTIL:20240331T010000Z
BEGIN:STANDARD
TZNAME:CET
DTSTART:20211031T030000
TZOFFSETFROM:+0200
TZOFFSETTO:+0100
RDATE:20221030T030000
RDATE:20231029T030000
END:STANDARD
BEGIN:DAYLIGHT
TZNAME:CEST
DTSTART:20220327T020000
TZOFFSETFROM:+0100
TZOFFSETTO:+0200
RDATE:20230326T020000
END:DAYLIGHT
END:VTIMEZONE
BEGIN:VEVENT
UID:38323862-3462-4332-a662-393962346564
DTSTAMP:20260424T112608Z
CATEGORIES:Talleres y cursos
CLASS:PUBLIC
DESCRIPTION;ALTREP="CID:<FFFF__=0ABBE548DFE235B58f9e8a93d@coffeebean.com>":
 Aprende las principales técnicas para mezclar como un Dj Profesional y los
  mejores trucos de Turntablism\n
DTSTART:20220602T150000Z
DTEND:20220602T150000Z
GEO:+39.589134;-0.461396
LOCATION:Aula Jove
ORGANIZER:
SEQUENCE:1
SUMMARY:Taller de Dj Bétera
TRANSP:OPAQUE
URL:https://nacidosdelatierra.com/eventos/taller-de-dj-betera/2022-06-02-17
 -00.html?layout=vcal
END:VEVENT
END:VCALENDAR
