BEGIN:VCALENDAR
VERSION:2.0
PRODID:-//Nacidos de la Tierra//NONSGML kigkonsult.se iCalcreator 2.41.92//
CALSCALE:GREGORIAN
METHOD:PUBLISH
UID:38623161-3437-4830-b065-643339656434
X-WR-CALNAME:iCagenda
X-WR-CALDESC:Event Management Extension for Joomla!
X-WR-RELCALID:3E26604A-50F4-4449-8B3E-E4F4932D05B5
X-WR-TIMEZONE:Europe/Madrid
BEGIN:VTIMEZONE
TZID:Europe/Madrid
TZUNTIL:20240331T010000Z
BEGIN:STANDARD
TZNAME:CET
DTSTART:20211031T030000
TZOFFSETFROM:+0200
TZOFFSETTO:+0100
RDATE:20221030T030000
RDATE:20231029T030000
END:STANDARD
BEGIN:DAYLIGHT
TZNAME:CEST
DTSTART:20220327T020000
TZOFFSETFROM:+0100
TZOFFSETTO:+0200
RDATE:20230326T020000
END:DAYLIGHT
END:VTIMEZONE
BEGIN:VEVENT
UID:66396162-3435-4664-b438-383031326231
DTSTAMP:20260424T132100Z
CATEGORIES:Talleres y cursos
CLASS:PUBLIC
DESCRIPTION:
DTSTART:20220705T223500Z
DTEND:20220705T223500Z
GEO:+39.412533;-0.40172
LOCATION:Centro Juvenil Massanassa
ORGANIZER:
SEQUENCE:1
SUMMARY:Ludoteca Estiu Jove Massanassa
TRANSP:OPAQUE
URL:https://nacidosdelatierra.com/eventos/ludoteca-estiu-jove-massanassa/20
 22-07-06-00-35.html?layout=vcal
END:VEVENT
END:VCALENDAR
