BEGIN:VCALENDAR
VERSION:2.0
PRODID:-//Nacidos de la Tierra//NONSGML kigkonsult.se iCalcreator 2.41.92//
CALSCALE:GREGORIAN
METHOD:PUBLISH
UID:62343764-3234-4963-b466-346234363830
X-WR-CALNAME:iCagenda
X-WR-CALDESC:Event Management Extension for Joomla!
X-WR-RELCALID:3E26604A-50F4-4449-8B3E-E4F4932D05B5
X-WR-TIMEZONE:Europe/Madrid
BEGIN:VTIMEZONE
TZID:Europe/Madrid
TZUNTIL:20271031T010000Z
BEGIN:STANDARD
TZNAME:CET
DTSTART:20251026T030000
TZOFFSETFROM:+0200
TZOFFSETTO:+0100
RDATE:20261025T030000
END:STANDARD
BEGIN:DAYLIGHT
TZNAME:CEST
DTSTART:20250330T020000
TZOFFSETFROM:+0100
TZOFFSETTO:+0200
RDATE:20260329T020000
RDATE:20270328T020000
END:DAYLIGHT
END:VTIMEZONE
BEGIN:VEVENT
UID:30653266-3938-4561-a231-356462393434
DTSTAMP:20260424T135626Z
CATEGORIES:Centro Juvenil de Marines
CLASS:PUBLIC
DESCRIPTION;ALTREP="CID:<FFFF__=0ABBE548DFE235B58f9e8a93d@coffeebean.com>":
 El próximo&nbsp\;9 de marzo de 2026&nbsp\;abrimos las puertas del nuevo&nb
 sp\;Centro Juvenil de Marines\, un espacio creado para que la juventud del
  municipio tenga un lugar donde reunirse\, participar en actividades y dis
 frutar de un ocio saludable.\nDesde&nbsp\;Nacidos de la Tierra\, en colabo
 ración con el&nbsp\;Ayuntamiento de Marines\, ponemos en marcha este proye
 cto pensado para fomentar la convivencia\, la creatividad y la participaci
 ón juvenil.\nEl centro estará abierto&nbsp\;de lunes a sábado&nbsp\;con di
 ferentes horarios según la edad\, ofreciendo un espacio seguro donde los j
 óvenes puedan compartir tiempo\, aprender cosas nuevas y desarrollar activ
 idades educativas y culturales.\nAdemás\, para celebrar el inicio de esta 
 nueva etapa\, realizaremos una&nbsp\;Fiesta de Inauguración el sábado 14 d
 e marzo de 2026\, donde presentaremos el espacio y las actividades que se 
 desarrollarán durante el año.\nHorarios del centro\nJuventud\n\nDe lunes a
  sábado: 17:00 a 21:00\nSábados: 22:00 a 01:00 (ocio nocturno)\n\nPrimaria
  (5º y 6º)\n\nDe lunes a sábado: 17:00 a 19:00\n\n Toda la información del
  Centro Juvenil de Marines AQUÍ
DTSTART:20260309T160000Z
DTEND:20260309T160000Z
GEO:+39.674706;-0.562079
LOCATION:Centro Juvenil de Marines
ORGANIZER:
SEQUENCE:1
SUMMARY:Apertura del Centro Juvenil de Marines
TRANSP:OPAQUE
URL:https://nacidosdelatierra.com/eventos/apertura-del-centro-juvenil-de-ma
 rines/2026-03-09-17-00.html?layout=vcal
END:VEVENT
END:VCALENDAR
