BEGIN:VCALENDAR
VERSION:2.0
PRODID:-//Nacidos de la Tierra//NONSGML kigkonsult.se iCalcreator 2.41.92//
CALSCALE:GREGORIAN
METHOD:PUBLISH
UID:31616361-6130-4663-b966-343137323239
X-WR-CALNAME:iCagenda
X-WR-CALDESC:Event Management Extension for Joomla!
X-WR-RELCALID:3E26604A-50F4-4449-8B3E-E4F4932D05B5
X-WR-TIMEZONE:Europe/Madrid
BEGIN:VTIMEZONE
TZID:Europe/Madrid
TZUNTIL:20250330T010000Z
BEGIN:STANDARD
TZNAME:CET
DTSTART:20221030T030000
TZOFFSETFROM:+0200
TZOFFSETTO:+0100
RDATE:20231029T030000
RDATE:20241027T030000
END:STANDARD
BEGIN:DAYLIGHT
TZNAME:CEST
DTSTART:20230326T020000
TZOFFSETFROM:+0100
TZOFFSETTO:+0200
RDATE:20240331T020000
END:DAYLIGHT
END:VTIMEZONE
BEGIN:VEVENT
UID:61363666-3232-4264-b361-633366396333
DTSTAMP:20260420T101021Z
CATEGORIES:Actuaciones
CLASS:PUBLIC
DESCRIPTION;ALTREP="CID:<FFFF__=0ABBE548DFE235B58f9e8a93d@coffeebean.com>":
 ¡Ven y disfruta en el Espai d’Animació Juvenil Corresponsables en la Fira 
 d’Agost Xàtiva! Un espacio pensado para jóvenes de 12 a 16 años\, donde pr
 omovemos valores a través del ocio positivo y saludable. Aquí podrás sumer
 girte en un ambiente de diversión sana y al aire libre\, lleno de emociona
 ntes talleres y actuaciones.\nLugar: Glorieta José Espejo\nAgenda de Activ
 idades:\n\n\nDe 19:00 a 21:00 h: Taller de Introducción al DJ de Sesión. ¡
 Descubre los secretos del arte de DJing de la mano de DJ Lady Funk!\n\n\nA
  las 22:00 h: 'SESSIÓN DJ'. Disfruta de la magia musical con la sesión de 
 DJ Lady Funk.\n\n\n¡No te lo pierdas! Acompáñanos en esta experiencia llen
 a de ritmo y diversión. ¡Y además\, podrás deleitarte con la oferta gastro
 nómica de nuestros Food Trucks!
DTSTART:20230815T170000Z
DTEND:20230815T170000Z
GEO:+38.990402;-0.519936
LOCATION:
ORGANIZER:
SEQUENCE:1
SUMMARY:Taller y sesión de Dj Lady Funk en Xàtiva
TRANSP:OPAQUE
URL:https://nacidosdelatierra.com/actuaciones/taller-y-sesion-de-dj-lady-fu
 nk-en-xativa/2023-08-15-19-00.html
END:VEVENT
END:VCALENDAR
