BEGIN:VCALENDAR
VERSION:2.0
PRODID:-//Nacidos de la Tierra//NONSGML kigkonsult.se iCalcreator 2.41.92//
CALSCALE:GREGORIAN
METHOD:PUBLISH
UID:65373830-3632-4938-b263-616465386162
X-WR-CALNAME:iCagenda
X-WR-CALDESC:Event Management Extension for Joomla!
X-WR-RELCALID:3E26604A-50F4-4449-8B3E-E4F4932D05B5
X-WR-TIMEZONE:Europe/Madrid
BEGIN:VTIMEZONE
TZID:Europe/Madrid
TZUNTIL:20250330T010000Z
BEGIN:STANDARD
TZNAME:CET
DTSTART:20221030T030000
TZOFFSETFROM:+0200
TZOFFSETTO:+0100
RDATE:20231029T030000
RDATE:20241027T030000
END:STANDARD
BEGIN:DAYLIGHT
TZNAME:CEST
DTSTART:20230326T020000
TZOFFSETFROM:+0100
TZOFFSETTO:+0200
RDATE:20240331T020000
END:DAYLIGHT
END:VTIMEZONE
BEGIN:VEVENT
UID:38353535-3532-4162-b263-653739366363
DTSTAMP:20260420T085136Z
CATEGORIES:Actuaciones
CLASS:PUBLIC
DESCRIPTION;ALTREP="CID:<FFFF__=0ABBE548DFE235B58f9e8a93d@coffeebean.com>":
 ¡Únete a la emoción del Espai d’animació para jóvenes de 12 a 16 años en l
 a encantadora Glorieta José Espejo! Este espacio ofrece una experiencia in
 olvidable\, donde la diversión sana y el ocio positivo se combinan para cr
 ear un ambiente lleno de valores y aprendizaje.\nEl evento comenzará a las
  19:00 h y la diversión no tendrá límites hasta las 24:00 h. Te espera una
  tarde y noche repleta de actividades emocionantes:\n\nTaller de danza urb
 ana 'Coreografía y Freestyle' con Bea Abad: Si te apasiona la danza urbana
 \, no puedes perderte este taller donde aprenderás increíbles movimientos 
 de baile y freestyle.\nFotomaton ESTIMA’M BÉ 360º: Inmortaliza momentos ún
 icos con el Fotomaton ESTIMA’M BÉ 360º\, donde capturarás risas y sonrisas
  compartidas con amigos y nuevos conocidos.\nEspectáculo de Baile y Música
  Urbana a cargo de Adrián Black\, Miriam Forte y Bea Abad: Déjate llevar p
 or el talento y la energía de estos artistas en el escenario\, llevando la
  cultura del hip hop a otro nivel. ¡No podrás dejar de moverte al ritmo de
  sus actuaciones!\nTómbola ESTIMA’M BÉ: Participa en nuestra tómbola y llé
 vate premios sorprendentes para completar la velada.\n\nY para complementa
 r la velada\, contaremos con el servicio de Food Trucks\, para que puedas 
 saborear deliciosos manjares mientras disfrutas del evento.\n¡Ven con tus 
 amigos y descubre cómo la música y el arte del hip hop pueden inspirar y e
 mpoderar a la juventud! Te esperamos en la Glorieta José Espejo para vivir
  una experiencia inolvidable en el Espai d’animació juvenil.
DTSTART:20230817T170000Z
DTEND:20230817T170000Z
GEO:+38.990402;-0.519936
LOCATION:
ORGANIZER:
SEQUENCE:1
SUMMARY:Taller de Danza Urbana y espectáculo con Bea Abad\, Adrian Black y 
 Miriam Forte
TRANSP:OPAQUE
URL:https://nacidosdelatierra.com/actuaciones/taller-de-danza-urbana-y-espe
 ctaculo-con-bea-abad-adrian-black-y-miriam-forte/2023-08-17-19-00.html
END:VEVENT
END:VCALENDAR
