BEGIN:VCALENDAR
VERSION:2.0
PRODID:-//Nacidos de la Tierra//NONSGML kigkonsult.se iCalcreator 2.41.92//
CALSCALE:GREGORIAN
METHOD:PUBLISH
UID:39656236-3830-4730-a138-653136316664
X-WR-CALNAME:iCagenda
X-WR-CALDESC:Event Management Extension for Joomla!
X-WR-RELCALID:3E26604A-50F4-4449-8B3E-E4F4932D05B5
X-WR-TIMEZONE:Europe/Madrid
BEGIN:VTIMEZONE
TZID:Europe/Madrid
TZUNTIL:20271031T010000Z
BEGIN:STANDARD
TZNAME:CET
DTSTART:20251026T030000
TZOFFSETFROM:+0200
TZOFFSETTO:+0100
RDATE:20261025T030000
END:STANDARD
BEGIN:DAYLIGHT
TZNAME:CEST
DTSTART:20250330T020000
TZOFFSETFROM:+0100
TZOFFSETTO:+0200
RDATE:20260329T020000
RDATE:20270328T020000
END:DAYLIGHT
END:VTIMEZONE
BEGIN:VEVENT
UID:36313736-6437-4231-b736-626230373731
DTSTAMP:20260420T101505Z
CATEGORIES:Actuaciones
CLASS:PUBLIC
DESCRIPTION;ALTREP="CID:<FFFF__=0ABBE548DFE235B58f9e8a93d@coffeebean.com>":
 El próximo&nbsp\;sábado 28 de marzo de 2026\, Sedaví se llenará de energía
 \, creatividad y cultura con el&nbsp\;Festival de Cultura Urbana\, una jor
 nada gratuita pensada para todos los públicos.\nUn evento que combina refl
 exión\, música y movimiento\, donde la cultura Hip Hop y los deportes urba
 nos se convierten en herramientas de encuentro\, expresión y transformació
 n social.\n🟣 Mañana – DEBAMELON\nLa jornada comenzará con una propuesta pa
 rticipativa en el&nbsp\;IES Sedaví:\n\nCharla participativa familiar “Deba
 melon”\n“El lenguaje del poder a través de la música” con&nbsp\;DJ Luna Ro
 ja\n🕛 De 12:00 a 13:30 h\n\nUn espacio para reflexionar sobre el impacto d
 e la música en la sociedad\, el lenguaje y la construcción de pensamiento 
 crítico.\n🟠 Tarde – Cultura Urbana en la calle\nPor la tarde nos trasladam
 os al espacio abierto frente al&nbsp\;CEIP Vicente Pla Paredes\, donde viv
 iremos una gran muestra de disciplinas urbanas:\n🕓&nbsp\;De 16:00 a 20:00 
 h\nDe 16:00 a 18:00 h:\n\nArte Urbano\nHip Hop Dance\nBreak Dance\nFreesty
 le Rap\nParkour\nSkate\n\nDe 18:00 a 19:00 h:\n\nExhibiciones y conciertos
  con:\n\nGramea Soul\nNacidos de la Tierra\nJuls Beatbox\n\n\n\nDurante to
 da la tarde contaremos además con&nbsp\;DJ Sessions a cargo de DJ Luna Roj
 a\, creando un ambiente continuo de música y celebración.\nUn evento para 
 todas las edades\nEl festival está pensado como un espacio abierto donde&n
 bsp\;la juventud\, las familias y el vecindario&nbsp\;puedan disfrutar jun
 tos de una jornada llena de cultura\, deporte y convivencia.\nUna oportuni
 dad para acercarse al Hip Hop como herramienta educativa y social\, descub
 rir nuevas disciplinas y vivir la calle como un espacio positivo.
DTSTART:20260328T110000Z
DTEND:20260328T110000Z
GEO:+39.425835;-0.378011
LOCATION:IES Sedaví / Parque frente al CEIP Vicente Pla Paredes
ORGANIZER:
SEQUENCE:1
SUMMARY:Festival de Cultura Urbana Sedaví
TRANSP:OPAQUE
URL:https://nacidosdelatierra.com/actuaciones/festival-de-cultura-urbana-se
 davi/2026-03-28-12-00.html
END:VEVENT
END:VCALENDAR
