BEGIN:VCALENDAR
VERSION:2.0
PRODID:-//Nacidos de la Tierra//NONSGML kigkonsult.se iCalcreator 2.41.92//
CALSCALE:GREGORIAN
METHOD:PUBLISH
UID:61633262-6538-4663-a539-346530333233
X-WR-CALNAME:iCagenda
X-WR-CALDESC:Event Management Extension for Joomla!
X-WR-RELCALID:3E26604A-50F4-4449-8B3E-E4F4932D05B5
X-WR-TIMEZONE:Europe/Madrid
BEGIN:VTIMEZONE
TZID:Europe/Madrid
TZUNTIL:20221030T010000Z
BEGIN:STANDARD
TZNAME:CET
DTSTART:20201025T030000
TZOFFSETFROM:+0200
TZOFFSETTO:+0100
RDATE:20211031T030000
END:STANDARD
BEGIN:DAYLIGHT
TZNAME:CEST
DTSTART:20200329T020000
TZOFFSETFROM:+0100
TZOFFSETTO:+0200
RDATE:20210328T020000
RDATE:20220327T020000
END:DAYLIGHT
END:VTIMEZONE
BEGIN:VEVENT
UID:66393033-3737-4638-b761-326366653137
DTSTAMP:20260420T094646Z
CATEGORIES:Actuaciones
CLASS:PUBLIC
DESCRIPTION;ALTREP="CID:<FFFF__=0ABBE548DFE235B58f9e8a93d@coffeebean.com>":
 ¡No te pierdas el increíble concierto +Rap en La Pobla de Vallbona! Disfru
 ta de las actuaciones de Tito Eduard\, TDAH\, Pau FV\, Suay\, Delta\, Juls
  &amp\; Milk Beatbox\, y por supuesto\, Nacidos de la Tierra. Ven al Espai
  Jove de La Pobla de Vallbona en la C/ de les Eres\, 82 el 24 de Noviembre
  de 2020 a las 19:00. La entrada es gratuita\, pero asegúrate de registrar
 te\, ya que el aforo es limitado. ¡Será una noche llena de música\, ritmo 
 y talento joven que no te puedes perder!
DTSTART:20201121T180000Z
DTEND:20201121T180000Z
GEO:+39.596764;-0.549115
LOCATION:Espai Jove de La Pobla de Vallbona
ORGANIZER:
SEQUENCE:1
SUMMARY:Concierto +Rap
TRANSP:OPAQUE
URL:https://nacidosdelatierra.com/actuaciones/concierto-rap/2020-11-21-19-0
 0.html
END:VEVENT
END:VCALENDAR
