BEGIN:VCALENDAR
VERSION:2.0
PRODID:-//Nacidos de la Tierra//NONSGML kigkonsult.se iCalcreator 2.41.92//
CALSCALE:GREGORIAN
METHOD:PUBLISH
UID:34303233-6462-4363-b338-366261663163
X-WR-CALNAME:iCagenda
X-WR-CALDESC:Event Management Extension for Joomla!
X-WR-RELCALID:3E26604A-50F4-4449-8B3E-E4F4932D05B5
X-WR-TIMEZONE:Europe/Madrid
BEGIN:VTIMEZONE
TZID:Europe/Madrid
TZUNTIL:20251026T010000Z
BEGIN:STANDARD
TZNAME:CET
DTSTART:20231029T030000
TZOFFSETFROM:+0200
TZOFFSETTO:+0100
RDATE:20241027T030000
END:STANDARD
BEGIN:DAYLIGHT
TZNAME:CEST
DTSTART:20230326T020000
TZOFFSETFROM:+0100
TZOFFSETTO:+0200
RDATE:20240331T020000
RDATE:20250330T020000
END:DAYLIGHT
END:VTIMEZONE
BEGIN:VEVENT
UID:35653933-3064-4639-a531-636261363364
DTSTAMP:20260420T123744Z
CATEGORIES:Actuaciones
CLASS:PUBLIC
DESCRIPTION;ALTREP="CID:<FFFF__=0ABBE548DFE235B58f9e8a93d@coffeebean.com>":
 ¡Únete a nuestro Acto de Lectura de Manifiesto 25N y descubre el poder de 
 la cultura urbana para la sensibilización y reflexión! Te invitamos a part
 icipar en una jornada especial que incluirá la presentación del trabajo de
  sensibilización de los centros educativos de L'Eliana (Valencia) y una em
 ocionante exhibición en vivo de Cultura Urbana\, que abarcará Rap\, Freest
 yle\, Beatbox y Graffiti.\nAcompáñanos en esta experiencia única donde la 
 cultura urbana se convierte en una herramienta poderosa para expresar idea
 s\, fomentar la reflexión y unir a la comunidad en la lucha contra la viol
 encia de género. La jornada incluirá una marcha de reivindicación y culmin
 ará con la lectura del manifiesto por las autoridades del municipio.\n¡No 
 te pierdas este evento significativo que promueve la igualdad y contribuye
  a construir un mundo sin violencia de género! ¡Te esperamos en el Auditor
 io Municipal y Plaza del Ayuntamiento de L'Eliana!
DTSTART:20231124T093000Z
DTEND:20231124T093000Z
GEO:00;0
LOCATION:Auditorio Municipal y Plaza del Ayuntamiento de L'Eliana.
ORGANIZER:
SEQUENCE:1
SUMMARY:Acto de lectura de manifiesto 25N en L'Eliana
TRANSP:OPAQUE
URL:https://nacidosdelatierra.com/actuaciones/acto-de-lectura-de-manifiesto
 -25n-en-leliana/2023-11-24-10-30.html
END:VEVENT
END:VCALENDAR
