BEGIN:VCALENDAR
VERSION:2.0
PRODID:-//Nacidos de la Tierra//NONSGML kigkonsult.se iCalcreator 2.41.92//
CALSCALE:GREGORIAN
METHOD:PUBLISH
UID:35653763-6234-4762-a135-346136303239
X-WR-CALNAME:iCagenda
X-WR-CALDESC:Event Management Extension for Joomla!
X-WR-RELCALID:3E26604A-50F4-4449-8B3E-E4F4932D05B5
X-WR-TIMEZONE:Europe/Madrid
BEGIN:VTIMEZONE
TZID:Europe/Madrid
TZUNTIL:20241027T010000Z
BEGIN:STANDARD
TZNAME:CET
DTSTART:20211031T030000
TZOFFSETFROM:+0200
TZOFFSETTO:+0100
RDATE:20221030T030000
RDATE:20231029T030000
END:STANDARD
BEGIN:DAYLIGHT
TZNAME:CEST
DTSTART:20220327T020000
TZOFFSETFROM:+0100
TZOFFSETTO:+0200
RDATE:20230326T020000
RDATE:20240331T020000
END:DAYLIGHT
END:VTIMEZONE
BEGIN:VEVENT
UID:32306562-6534-4865-b435-363138333566
DTSTAMP:20260420T100304Z
CATEGORIES:Actuaciones
CLASS:PUBLIC
DESCRIPTION;ALTREP="CID:<FFFF__=0ABBE548DFE235B58f9e8a93d@coffeebean.com>":
 Trobada con talleres de Break Dance\, Graffiti y actuaciones de los alumno
 s/as del curso Music On 2022 junto a los profesores (Nacidos de la Tierra 
 y Wöyza).\n
DTSTART:20221022T140000Z
DTEND:20221022T140000Z
GEO:+39.590382;-0.457504
LOCATION:Casa Nebot
ORGANIZER:
SEQUENCE:1
SUMMARY:3ª Trobada D'Art Urbá de Bétera
TRANSP:OPAQUE
URL:https://nacidosdelatierra.com/actuaciones/3-trobada-dart-urba-de-betera
 /2022-10-22-16-00.html
END:VEVENT
END:VCALENDAR
