BEGIN:VCALENDAR
VERSION:2.0
PRODID:-//Nacidos de la Tierra//NONSGML kigkonsult.se iCalcreator 2.41.92//
CALSCALE:GREGORIAN
METHOD:PUBLISH
UID:38396362-6430-4030-b337-313336663362
X-WR-CALNAME:iCagenda
X-WR-CALDESC:Event Management Extension for Joomla!
X-WR-RELCALID:3E26604A-50F4-4449-8B3E-E4F4932D05B5
X-WR-TIMEZONE:Europe/Madrid
BEGIN:VTIMEZONE
TZID:Europe/Madrid
TZUNTIL:20271031T010000Z
BEGIN:STANDARD
TZNAME:CET
DTSTART:20251026T030000
TZOFFSETFROM:+0200
TZOFFSETTO:+0100
RDATE:20261025T030000
END:STANDARD
BEGIN:DAYLIGHT
TZNAME:CEST
DTSTART:20250330T020000
TZOFFSETFROM:+0100
TZOFFSETTO:+0200
RDATE:20260329T020000
RDATE:20270328T020000
END:DAYLIGHT
END:VTIMEZONE
BEGIN:VEVENT
UID:66363734-6461-4533-b863-383533366661
DTSTAMP:20260420T083440Z
CATEGORIES:Actuaciones
CLASS:PUBLIC
DESCRIPTION;ALTREP="CID:<FFFF__=0ABBE548DFE235B58f9e8a93d@coffeebean.com>":
 El 1er Encuentro Urbano de Sedaví nace como un espacio de celebración\, co
 nvivencia y expresión artística dentro del proceso de dinamización municip
 al que estamos desarrollando junto al Ayuntamiento.\nDurante esta jornada 
 reuniremos a todas las personas participantes de los talleres de cultura u
 rbana para compartir una tarde donde el Rap\, el Break Dance\, el Skate\, 
 el Parkour\, el Graffiti y la Danza Urbana serán los protagonistas.\nMás q
 ue una exhibición\, será un punto de encuentro para la juventud\, las fami
 lias y el vecindario. Un espacio donde mostrar lo aprendido\, improvisar\,
  disfrutar y fortalecer los lazos comunitarios a través de la cultura Hip 
 Hop y los deportes urbanos.\nEsta actividad forma parte del proceso de rec
 onstrucción emocional y cohesión social impulsado tras la DANA\, utilizand
 o el arte y el movimiento como herramientas para canalizar emociones\, ref
 orzar la autoestima y generar comunidad.\nEl evento es abierto y gratuito\
 , pensado para todas las edades. Animamos a venir en familia y a invitar a
  amistades para compartir una tarde llena de energía positiva\, respeto y 
 creatividad.
DTSTART:20260221T160000Z
DTEND:20260221T160000Z
GEO:+39.426666;-0.380136
LOCATION:Parque frente al CEIP Vicente Pla Paredes
ORGANIZER:
SEQUENCE:1
SUMMARY:1er Encuentro Urbano de Sedaví
TRANSP:OPAQUE
URL:https://nacidosdelatierra.com/actuaciones/1er-encuentro-urbano-de-sedav
 i/2026-02-21-17-00.html
END:VEVENT
END:VCALENDAR
